BEGIN:VCALENDAR
VERSION:2.0
PRODID:-//Leadership Stockton - ECPv6.15.20//NONSGML v1.0//EN
CALSCALE:GREGORIAN
METHOD:PUBLISH
X-WR-CALNAME:Leadership Stockton
X-ORIGINAL-URL:https://leadershipstockton.com
X-WR-CALDESC:Events for Leadership Stockton
REFRESH-INTERVAL;VALUE=DURATION:PT1H
X-Robots-Tag:noindex
X-PUBLISHED-TTL:PT1H
BEGIN:VTIMEZONE
TZID:UTC
BEGIN:STANDARD
TZOFFSETFROM:+0000
TZOFFSETTO:+0000
TZNAME:UTC
DTSTART:20250101T000000
END:STANDARD
END:VTIMEZONE
BEGIN:VEVENT
DTSTART;TZID=UTC:20260807T080000
DTEND;TZID=UTC:20260807T120000
DTSTAMP:20260424T151152
CREATED:20260421T175947Z
LAST-MODIFIED:20260421T175947Z
UID:1599-1786089600-1786104000@leadershipstockton.com
SUMMARY:Orientation (Mandatory Session)
DESCRIPTION:
URL:https://leadershipstockton.com/event/orientation-mandatory-session-2/
CATEGORIES:Session Schedule 26/27
END:VEVENT
BEGIN:VEVENT
DTSTART;TZID=UTC:20260814T080000
DTEND;TZID=UTC:20260814T170000
DTSTAMP:20260424T151152
CREATED:20260421T180041Z
LAST-MODIFIED:20260421T180041Z
UID:1601-1786694400-1786726800@leadershipstockton.com
SUMMARY:Leadership Dynamics (Mandatory Session)
DESCRIPTION:
URL:https://leadershipstockton.com/event/leadership-dynamics-mandatory-session-2/
CATEGORIES:Session Schedule 26/27
END:VEVENT
BEGIN:VEVENT
DTSTART;TZID=UTC:20260925T080000
DTEND;TZID=UTC:20260926T153000
DTSTAMP:20260424T151152
CREATED:20260421T180133Z
LAST-MODIFIED:20260421T180133Z
UID:1603-1790323200-1790436600@leadershipstockton.com
SUMMARY:Retreat (Mandatory Session)
DESCRIPTION:
URL:https://leadershipstockton.com/event/retreat-mandatory-session-2/
CATEGORIES:Session Schedule 26/27
END:VEVENT
BEGIN:VEVENT
DTSTART;TZID=UTC:20261009T080000
DTEND;TZID=UTC:20261009T170000
DTSTAMP:20260424T151152
CREATED:20260421T180209Z
LAST-MODIFIED:20260421T180209Z
UID:1605-1791532800-1791565200@leadershipstockton.com
SUMMARY:History\, Arts & Culture
DESCRIPTION:
URL:https://leadershipstockton.com/event/history-arts-culture-2/
CATEGORIES:Session Schedule 26/27
END:VEVENT
BEGIN:VEVENT
DTSTART;TZID=UTC:20261113T080000
DTEND;TZID=UTC:20261113T170000
DTSTAMP:20260424T151152
CREATED:20260421T180235Z
LAST-MODIFIED:20260421T180235Z
UID:1607-1794556800-1794589200@leadershipstockton.com
SUMMARY:Education
DESCRIPTION:
URL:https://leadershipstockton.com/event/education-2/
CATEGORIES:Session Schedule 26/27
END:VEVENT
BEGIN:VEVENT
DTSTART;TZID=UTC:20261204T080000
DTEND;TZID=UTC:20261204T170000
DTSTAMP:20260424T151152
CREATED:20260421T180308Z
LAST-MODIFIED:20260421T180308Z
UID:1609-1796371200-1796403600@leadershipstockton.com
SUMMARY:Local Government
DESCRIPTION:
URL:https://leadershipstockton.com/event/local-government-2/
CATEGORIES:Session Schedule 26/27
END:VEVENT
BEGIN:VEVENT
DTSTART;TZID=UTC:20270108T080000
DTEND;TZID=UTC:20270108T170000
DTSTAMP:20260424T151152
CREATED:20260421T180338Z
LAST-MODIFIED:20260421T180338Z
UID:1611-1799395200-1799427600@leadershipstockton.com
SUMMARY:Law Enforcement/Justice
DESCRIPTION:
URL:https://leadershipstockton.com/event/law-enforcement-justice-2/
CATEGORIES:Session Schedule 26/27
END:VEVENT
BEGIN:VEVENT
DTSTART;TZID=UTC:20270212T080000
DTEND;TZID=UTC:20270212T170000
DTSTAMP:20260424T151152
CREATED:20260421T180413Z
LAST-MODIFIED:20260421T180413Z
UID:1613-1802419200-1802451600@leadershipstockton.com
SUMMARY:Community Serving Community
DESCRIPTION:
URL:https://leadershipstockton.com/event/community-serving-community-2/
CATEGORIES:Session Schedule 26/27
END:VEVENT
BEGIN:VEVENT
DTSTART;TZID=UTC:20270312T080000
DTEND;TZID=UTC:20270312T170000
DTSTAMP:20260424T151152
CREATED:20260421T180441Z
LAST-MODIFIED:20260421T180441Z
UID:1615-1804838400-1804870800@leadershipstockton.com
SUMMARY:Health Care
DESCRIPTION:
URL:https://leadershipstockton.com/event/health-care-2/
CATEGORIES:Session Schedule 26/27
END:VEVENT
BEGIN:VEVENT
DTSTART;TZID=UTC:20270409T080000
DTEND;TZID=UTC:20270409T170000
DTSTAMP:20260424T151152
CREATED:20260421T180518Z
LAST-MODIFIED:20260421T180518Z
UID:1617-1807257600-1807290000@leadershipstockton.com
SUMMARY:Economy
DESCRIPTION:
URL:https://leadershipstockton.com/event/economy-2/
CATEGORIES:Session Schedule 26/27
END:VEVENT
BEGIN:VEVENT
DTSTART;TZID=UTC:20270505T080000
DTEND;TZID=UTC:20270505T170000
DTSTAMP:20260424T151152
CREATED:20260421T180554Z
LAST-MODIFIED:20260421T180554Z
UID:1619-1809504000-1809536400@leadershipstockton.com
SUMMARY:Politics Visit/Tour State Capital
DESCRIPTION:
URL:https://leadershipstockton.com/event/politics-visit-tour-state-capital-2/
CATEGORIES:Session Schedule 26/27
END:VEVENT
BEGIN:VEVENT
DTSTART;TZID=UTC:20270610T080000
DTEND;TZID=UTC:20270610T120000
DTSTAMP:20260424T151152
CREATED:20260421T180628Z
LAST-MODIFIED:20260421T180657Z
UID:1621-1812614400-1812628800@leadershipstockton.com
SUMMARY:Closing Session
DESCRIPTION:
URL:https://leadershipstockton.com/event/closing-session-3/
CATEGORIES:Session Schedule 26/27
END:VEVENT
BEGIN:VEVENT
DTSTART;TZID=UTC:20270610T173000
DTEND;TZID=UTC:20270610T210000
DTSTAMP:20260424T151152
CREATED:20260421T180734Z
LAST-MODIFIED:20260421T180734Z
UID:1623-1812648600-1812661200@leadershipstockton.com
SUMMARY:Graduation - Class of 2027
DESCRIPTION:
URL:https://leadershipstockton.com/event/graduation-class-of-2027/
CATEGORIES:Session Schedule 26/27
END:VEVENT
END:VCALENDAR