BEGIN:VCALENDAR
VERSION:2.0
PRODID:-//Leadership Stockton - ECPv6.15.20//NONSGML v1.0//EN
CALSCALE:GREGORIAN
METHOD:PUBLISH
X-ORIGINAL-URL:https://leadershipstockton.com
X-WR-CALDESC:Events for Leadership Stockton
REFRESH-INTERVAL;VALUE=DURATION:PT1H
X-Robots-Tag:noindex
X-PUBLISHED-TTL:PT1H
BEGIN:VTIMEZONE
TZID:UTC
BEGIN:STANDARD
TZOFFSETFROM:+0000
TZOFFSETTO:+0000
TZNAME:UTC
DTSTART:20260101T000000
END:STANDARD
END:VTIMEZONE
BEGIN:VEVENT
DTSTART;TZID=UTC:20270409T080000
DTEND;TZID=UTC:20270409T170000
DTSTAMP:20260424T114204
CREATED:20260421T180518Z
LAST-MODIFIED:20260421T180518Z
UID:1617-1807257600-1807290000@leadershipstockton.com
SUMMARY:Economy
DESCRIPTION:
URL:https://leadershipstockton.com/event/economy-2/
CATEGORIES:Session Schedule 26/27
END:VEVENT
BEGIN:VEVENT
DTSTART;TZID=UTC:20270505T080000
DTEND;TZID=UTC:20270505T170000
DTSTAMP:20260424T114204
CREATED:20260421T180554Z
LAST-MODIFIED:20260421T180554Z
UID:1619-1809504000-1809536400@leadershipstockton.com
SUMMARY:Politics Visit/Tour State Capital
DESCRIPTION:
URL:https://leadershipstockton.com/event/politics-visit-tour-state-capital-2/
CATEGORIES:Session Schedule 26/27
END:VEVENT
BEGIN:VEVENT
DTSTART;TZID=UTC:20270610T080000
DTEND;TZID=UTC:20270610T120000
DTSTAMP:20260424T114204
CREATED:20260421T180628Z
LAST-MODIFIED:20260421T180657Z
UID:1621-1812614400-1812628800@leadershipstockton.com
SUMMARY:Closing Session
DESCRIPTION:
URL:https://leadershipstockton.com/event/closing-session-3/
CATEGORIES:Session Schedule 26/27
END:VEVENT
BEGIN:VEVENT
DTSTART;TZID=UTC:20270610T173000
DTEND;TZID=UTC:20270610T210000
DTSTAMP:20260424T114204
CREATED:20260421T180734Z
LAST-MODIFIED:20260421T180734Z
UID:1623-1812648600-1812661200@leadershipstockton.com
SUMMARY:Graduation - Class of 2027
DESCRIPTION:
URL:https://leadershipstockton.com/event/graduation-class-of-2027/
CATEGORIES:Session Schedule 26/27
END:VEVENT
END:VCALENDAR